BEGIN:VCALENDAR
VERSION:2.0
PRODID:-//jEvents 2.0 for Joomla//EN
CALSCALE:GREGORIAN
METHOD:PUBLISH
BEGIN:VTIMEZONE
TZID:Europe/Berlin
BEGIN:STANDARD
DTSTART:20151113T093000
RDATE:20160327T030000
TZOFFSETFROM:+0200
TZOFFSETTO:+0100
TZNAME:Europe/Berlin CET
END:STANDARD
BEGIN:STANDARD
DTSTART:20161030T020000
RDATE:20170326T030000
TZOFFSETFROM:+0200
TZOFFSETTO:+0100
TZNAME:Europe/Berlin CET
END:STANDARD
BEGIN:STANDARD
DTSTART:20171029T020000
RDATE:20180325T030000
TZOFFSETFROM:+0200
TZOFFSETTO:+0100
TZNAME:Europe/Berlin CET
END:STANDARD
BEGIN:STANDARD
DTSTART:20181028T020000
RDATE:20190331T030000
TZOFFSETFROM:+0200
TZOFFSETTO:+0100
TZNAME:Europe/Berlin CET
END:STANDARD
BEGIN:STANDARD
DTSTART:20191027T020000
RDATE:20200329T030000
TZOFFSETFROM:+0200
TZOFFSETTO:+0100
TZNAME:Europe/Berlin CET
END:STANDARD
BEGIN:STANDARD
DTSTART:20201025T020000
RDATE:20210328T030000
TZOFFSETFROM:+0200
TZOFFSETTO:+0100
TZNAME:Europe/Berlin CET
END:STANDARD
BEGIN:DAYLIGHT
DTSTART:20160327T030000
RDATE:20161030T020000
TZOFFSETFROM:+0100
TZOFFSETTO:+0200
TZNAME:Europe/Berlin CEST
END:DAYLIGHT
BEGIN:DAYLIGHT
DTSTART:20170326T030000
RDATE:20171029T020000
TZOFFSETFROM:+0100
TZOFFSETTO:+0200
TZNAME:Europe/Berlin CEST
END:DAYLIGHT
BEGIN:DAYLIGHT
DTSTART:20180325T030000
RDATE:20181028T020000
TZOFFSETFROM:+0100
TZOFFSETTO:+0200
TZNAME:Europe/Berlin CEST
END:DAYLIGHT
BEGIN:DAYLIGHT
DTSTART:20190331T030000
RDATE:20191027T020000
TZOFFSETFROM:+0100
TZOFFSETTO:+0200
TZNAME:Europe/Berlin CEST
END:DAYLIGHT
BEGIN:DAYLIGHT
DTSTART:20200329T030000
RDATE:20201025T020000
TZOFFSETFROM:+0100
TZOFFSETTO:+0200
TZNAME:Europe/Berlin CEST
END:DAYLIGHT
END:VTIMEZONE
BEGIN:VEVENT
UID:d9db483ee185817a9bc28382402ffc2e
CATEGORIES:Rangliste
CREATED:20160121T120209
SUMMARY:SH-Cup Finale
LOCATION:Fischzucht Knutzen\, Hohenlockstedt
DESCRIPTION:Hallo IOMler,\nich möchte zum Lauf Hohenlockstedt des SH-Cup am 13.11.16 be
 i Knutzen/Hohenlockstedt einladen. Treffen ist um 9:30 Uhr. Erster Start is
 t für 10:30Uhr geplant.\nDie letzte Wettfahrt sollte um 15:30h beendet sein
 . Hinweis zur Anfahrt: 53° 58' 26"N, 9°39' 15"E bei der Fischzucht Knutzen/
 Hohenlockstedt. \nhttp://www.fischzucht-knutzen.de/detailkarte.htm http://w
 ww.fischzucht-nutzen.de/anfahrt.htm Es steht dort ein Kiosk, an dem wir lec
 kere Fischbrötchen bekommen können. Meldungen bitte hier im Forum, per Emai
 l oder auf RCN mit Name und Segelnummer. \nÜber reichlich Teilnehmer würden
  wir uns sehr freuen. \n\nHaftungsausschluss\nDer Veranstalter und der Ausr
 ichter haften nicht für persönliche Schäden, oder für\nBeschädigungen und s
 onstige Nachteile, die mittelbar oder unmittelbar mit der Veranstaltung\nin
  Zusammenhang stehen. Teilnehmer und deren Begleitpersonen sind für ihr Han
 deln\nselbst verantwortlich.\nMit der Abgabe der Meldung erklärt der Teilne
 hmer sein Einverständnis, dass Fotografien\nvon ihm und seinem Boot, die im
  Rahmen der Veranstaltung gemacht werden, veröffentlicht\nwerden können. ( 
 Internet, Presse )\n\n Gruß\n Torsten Veranstalter : VDMYS\nAusrichter : DS
 V\n
X-ALT-DESC;FMTTYPE=text/html:Hallo IOMler,<br />ich möchte zum Lauf Hohenlockstedt des SH-Cup am 13.11.1
 6 bei Knutzen/Hohenlockstedt einladen. Treffen ist um 9:30 Uhr. Erster Star
 t ist für 10:30Uhr geplant.<br />Die letzte Wettfahrt sollte um 15:30h been
 det sein. Hinweis zur Anfahrt: 53° 58' 26"N, 9°39' 15"E bei der Fischzucht 
 Knutzen/Hohenlockstedt. <br />http://www.fischzucht-knutzen.de/detailkarte.
 htm http://www.fischzucht-nutzen.de/anfahrt.htm Es steht dort ein Kiosk, an
  dem wir leckere Fischbrötchen bekommen können. Meldungen bitte hier im For
 um, per Email oder auf RCN mit Name und Segelnummer. <br />Über reichlich T
 eilnehmer würden wir uns sehr freuen. <br /><br />Haftungsausschluss<br />D
 er Veranstalter und der Ausrichter haften nicht für persönliche Schäden, od
 er für<br />Beschädigungen und sonstige Nachteile, die mittelbar oder unmit
 telbar mit der Veranstaltung<br />in Zusammenhang stehen. Teilnehmer und de
 ren Begleitpersonen sind für ihr Handeln<br />selbst verantwortlich.<br />M
 it der Abgabe der Meldung erklärt der Teilnehmer sein Einverständnis, dass 
 Fotografien<br />von ihm und seinem Boot, die im Rahmen der Veranstaltung g
 emacht werden, veröffentlicht<br />werden können. ( Internet, Presse )<br /
 ><br /> Gruß<br /> Torsten <table border='0'><tr><td class='label'>Veransta
 lter : </td><td>VDMYS\n</td></tr><tr><td class='label'>Ausrichter : </td><t
 d>DSV\n</td></tr></table>
DTSTAMP:20260419T125225
DTSTART;TZID=Europe/Berlin:20161113T093000
DTEND;TZID=Europe/Berlin:20161113T153000
SEQUENCE:0
TRANSP:OPAQUE
END:VEVENT
END:VCALENDAR