BEGIN:VCALENDAR
VERSION:2.0
PRODID:-//jEvents 2.0 for Joomla//EN
CALSCALE:GREGORIAN
METHOD:PUBLISH
BEGIN:VTIMEZONE
TZID:Europe/Berlin
BEGIN:STANDARD
DTSTART:20130321T093000
RDATE:20130331T030000
TZOFFSETFROM:+0200
TZOFFSETTO:+0100
TZNAME:Europe/Berlin CET
END:STANDARD
BEGIN:STANDARD
DTSTART:20131027T020000
RDATE:20140330T030000
TZOFFSETFROM:+0200
TZOFFSETTO:+0100
TZNAME:Europe/Berlin CET
END:STANDARD
BEGIN:STANDARD
DTSTART:20141026T020000
RDATE:20150329T030000
TZOFFSETFROM:+0200
TZOFFSETTO:+0100
TZNAME:Europe/Berlin CET
END:STANDARD
BEGIN:STANDARD
DTSTART:20151025T020000
RDATE:20160327T030000
TZOFFSETFROM:+0200
TZOFFSETTO:+0100
TZNAME:Europe/Berlin CET
END:STANDARD
BEGIN:STANDARD
DTSTART:20161030T020000
RDATE:20170326T030000
TZOFFSETFROM:+0200
TZOFFSETTO:+0100
TZNAME:Europe/Berlin CET
END:STANDARD
BEGIN:STANDARD
DTSTART:20171029T020000
RDATE:20180325T030000
TZOFFSETFROM:+0200
TZOFFSETTO:+0100
TZNAME:Europe/Berlin CET
END:STANDARD
BEGIN:STANDARD
DTSTART:20181028T020000
RDATE:20190331T030000
TZOFFSETFROM:+0200
TZOFFSETTO:+0100
TZNAME:Europe/Berlin CET
END:STANDARD
BEGIN:STANDARD
DTSTART:20191027T020000
RDATE:20200329T030000
TZOFFSETFROM:+0200
TZOFFSETTO:+0100
TZNAME:Europe/Berlin CET
END:STANDARD
BEGIN:STANDARD
DTSTART:20201025T020000
RDATE:20210328T030000
TZOFFSETFROM:+0200
TZOFFSETTO:+0100
TZNAME:Europe/Berlin CET
END:STANDARD
BEGIN:DAYLIGHT
DTSTART:20130331T030000
RDATE:20131027T020000
TZOFFSETFROM:+0100
TZOFFSETTO:+0200
TZNAME:Europe/Berlin CEST
END:DAYLIGHT
BEGIN:DAYLIGHT
DTSTART:20140330T030000
RDATE:20141026T020000
TZOFFSETFROM:+0100
TZOFFSETTO:+0200
TZNAME:Europe/Berlin CEST
END:DAYLIGHT
BEGIN:DAYLIGHT
DTSTART:20150329T030000
RDATE:20151025T020000
TZOFFSETFROM:+0100
TZOFFSETTO:+0200
TZNAME:Europe/Berlin CEST
END:DAYLIGHT
BEGIN:DAYLIGHT
DTSTART:20160327T030000
RDATE:20161030T020000
TZOFFSETFROM:+0100
TZOFFSETTO:+0200
TZNAME:Europe/Berlin CEST
END:DAYLIGHT
BEGIN:DAYLIGHT
DTSTART:20170326T030000
RDATE:20171029T020000
TZOFFSETFROM:+0100
TZOFFSETTO:+0200
TZNAME:Europe/Berlin CEST
END:DAYLIGHT
BEGIN:DAYLIGHT
DTSTART:20180325T030000
RDATE:20181028T020000
TZOFFSETFROM:+0100
TZOFFSETTO:+0200
TZNAME:Europe/Berlin CEST
END:DAYLIGHT
BEGIN:DAYLIGHT
DTSTART:20190331T030000
RDATE:20191027T020000
TZOFFSETFROM:+0100
TZOFFSETTO:+0200
TZNAME:Europe/Berlin CEST
END:DAYLIGHT
BEGIN:DAYLIGHT
DTSTART:20200329T030000
RDATE:20201025T020000
TZOFFSETFROM:+0100
TZOFFSETTO:+0200
TZNAME:Europe/Berlin CEST
END:DAYLIGHT
END:VTIMEZONE
BEGIN:VEVENT
UID:f3fbe33edae54ee8d62ea62f77c6970a
CATEGORIES:Freundschaft
CREATED:20140228T095722
SUMMARY:IOM Frühjahrs Cup in Sörup 
LOCATION:Südensee
DESCRIPTION:Moin moin an Alle!\nDie Flensburger möchten wieder IOM segeln und veranstal
 ten am 22.03.14 eine Freundschaftsregatta in Sörup am Südensee.\nWir hoffen
  auf rege Teilnahme und einen schönen Regattatag. \nFür das leibliche Wohl 
 wird gesorgt, Getränke und eine Kleinigkeit zu Essen wird in der Mittagspau
 se gestellt.\n \nTreffen ab 9:00 Uhr am See\nSkippermeeting 9:30 Uhr\nErste
 r Start ca. 10:00 Uhr\nLetzter Lauf: nicht nach 15:30 Uhr\n \n \n
X-ALT-DESC;FMTTYPE=text/html:<p style="text-align: left;"><strong>Moin moin an Alle!</strong></p><p styl
 e="text-align: left;"><strong>Die Flensburger möchten wieder IOM segeln und
  veranstalten am 22.03.14 eine Freundschaftsregatta in Sörup am Südensee.</
 strong></p><p style="text-align: left;"><strong>Wir hoffen auf rege Teilnah
 me und einen schönen Regattatag. </strong></p><p style="text-align: left;">
 <strong>Für das leibliche Wohl wird gesorgt, Getränke und eine Kleinigkeit 
 zu Essen wird in der Mittagspause gestellt.</strong></p><p style="text-alig
 n: left;"> </p><p style="text-align: left;"><strong>Treffen ab 9:00 Uhr am 
 See</strong></p><p style="text-align: left;"><strong>Skippermeeting 9:30 Uh
 r</strong></p><p style="text-align: left;"><strong>Erster Start ca. 10:00 U
 hr</strong></p><p style="text-align: left;"><strong>Letzter Lauf: nicht nac
 h 15:30 Uhr</strong></p><p style="text-align: left;"> </p><p style="text-al
 ign: left;"> </p>
DTSTAMP:20260419T125804
DTSTART;TZID=Europe/Berlin:20140322T093000
DTEND;TZID=Europe/Berlin:20140322T153000
SEQUENCE:0
TRANSP:OPAQUE
END:VEVENT
END:VCALENDAR