BEGIN:VCALENDAR
VERSION:2.0
PRODID:-//jEvents 2.0 for Joomla//EN
CALSCALE:GREGORIAN
METHOD:PUBLISH
BEGIN:VTIMEZONE
TZID:Europe/Berlin
END:VTIMEZONE
BEGIN:VEVENT
UID:9d6171a83c9bc952b93020312bb45935
CATEGORIES:Rangliste
CREATED:20241106T161303
SUMMARY:Niederrhein Cup IOM Toeppersee
LOCATION:Toeppersee
DESCRIPTION:
CONTACT:Helmut Tiedemann
DTSTAMP:20260420T043243
DTSTART;TZID=Europe/Berlin;VALUE=DATE:20250308
DTEND;TZID=Europe/Berlin;VALUE=DATE:20250310
SEQUENCE:0
TRANSP:OPAQUE
END:VEVENT
END:VCALENDAR